BEGIN:VCALENDAR
VERSION:2.0
PRODID:-//Cranston Residents Association - ECPv6.14.2//NONSGML v1.0//EN
CALSCALE:GREGORIAN
METHOD:PUBLISH
X-WR-CALNAME:Cranston Residents Association
X-ORIGINAL-URL:https://cranstonra.ca
X-WR-CALDESC:Events for Cranston Residents Association
REFRESH-INTERVAL;VALUE=DURATION:PT1H
X-Robots-Tag:noindex
X-PUBLISHED-TTL:PT1H
BEGIN:VTIMEZONE
TZID:America/Edmonton
BEGIN:DAYLIGHT
TZOFFSETFROM:-0700
TZOFFSETTO:-0600
TZNAME:MDT
DTSTART:20250309T090000
END:DAYLIGHT
BEGIN:STANDARD
TZOFFSETFROM:-0600
TZOFFSETTO:-0700
TZNAME:MST
DTSTART:20251102T080000
END:STANDARD
END:VTIMEZONE
BEGIN:VEVENT
DTSTART;TZID=America/Edmonton:20250601T150000
DTEND;TZID=America/Edmonton:20250601T150000
DTSTAMP:20260419T064709
CREATED:20250520T201902Z
LAST-MODIFIED:20250520T201902Z
UID:10000074-1748790000-1748790000@cranstonra.ca
SUMMARY:Birthday Party Package Available
DESCRIPTION:Looking to book a birthday party at Century Hall? This time slot is currently available! Visit the link to learn more and reserve your spot.
URL:https://cranstonra.ca/event/birthday-party-package-available/
LOCATION:Cranston Century Hall\, 11 Cranarch Rd\, Calgary\, Alberta\, T3M 1S3\, Canada
CATEGORIES:Rental
ORGANIZER;CN="Cranston Residents Association":MAILTO:info@cranstonra.ca
END:VEVENT
BEGIN:VEVENT
DTSTART;TZID=America/Edmonton:20250430T130000
DTEND;TZID=America/Edmonton:20250430T130000
DTSTAMP:20260419T064709
CREATED:20250405T225556Z
LAST-MODIFIED:20250405T225556Z
UID:10000031-1746018000-1746018000@cranstonra.ca
SUMMARY:Seniors Social
DESCRIPTION:Every Wednesday from 1:00 PM to 3:00 PM\, seniors in Cranston are invited to gather for tea/coffee\, card games\, and board games in a fun and welcoming atmosphere. Join us for an afternoon of relaxation and connection!
URL:https://cranstonra.ca/event/seniors-social-12/
LOCATION:Cranston Century Hall\, 11 Cranarch Rd\, Calgary\, Alberta\, T3M 1S3\, Canada
CATEGORIES:Community Club
ORGANIZER;CN="Cranston Residents Association":MAILTO:info@cranstonra.ca
END:VEVENT
BEGIN:VEVENT
DTSTART;TZID=America/Edmonton:20250425T183000
DTEND;TZID=America/Edmonton:20250425T183000
DTSTAMP:20260419T064709
CREATED:20250405T225612Z
LAST-MODIFIED:20250405T225612Z
UID:10000034-1745605800-1745605800@cranstonra.ca
SUMMARY:Youth Night
DESCRIPTION:Youth Night is a weekly hangout for Cranston kids aged 11-14\, where they can come together to socialize\, play games\, and enjoy the evening.\nActivity for this week: Tie Dye Night
URL:https://cranstonra.ca/event/youth-night-11/
LOCATION:Cranston Century Hall\, 11 Cranarch Rd\, Calgary\, Alberta\, T3M 1S3\, Canada
CATEGORIES:Community Club
ORGANIZER;CN="Cranston Residents Association":MAILTO:info@cranstonra.ca
END:VEVENT
BEGIN:VEVENT
DTSTART;TZID=America/Edmonton:20250424T090000
DTEND;TZID=America/Edmonton:20250424T170000
DTSTAMP:20260419T064709
CREATED:20250408T164918Z
LAST-MODIFIED:20250408T164918Z
UID:10000036-1745485200-1745514000@cranstonra.ca
SUMMARY:Blood Donor Clinic
DESCRIPTION:We’re hosting a Blood Donor Clinic in our gymnasium on Thursday\, April 24 from 9:00 AM to 5:00 PM. Please note that the gym will be closed during these hours to accommodate the clinic. \nRegular programming will continue as scheduled in other areas\, but we encourage everyone to check the gym schedule for any changes. Toddler Time will be cancelled for this day due to the gym closure. \nThank you for your understanding and support!
URL:https://cranstonra.ca/event/blood-donor-clinic/
LOCATION:Cranston Century Hall\, 11 Cranarch Rd\, Calgary\, Alberta\, T3M 1S3\, Canada
ORGANIZER;CN="Cranston Residents Association":MAILTO:info@cranstonra.ca
END:VEVENT
BEGIN:VEVENT
DTSTART;TZID=America/Edmonton:20250423T130000
DTEND;TZID=America/Edmonton:20250423T130000
DTSTAMP:20260419T064709
CREATED:20250405T225556Z
LAST-MODIFIED:20250405T225556Z
UID:10000030-1745413200-1745413200@cranstonra.ca
SUMMARY:Seniors Social
DESCRIPTION:Every Wednesday from 1:00 PM to 3:00 PM\, seniors in Cranston are invited to gather for tea/coffee\, card games\, and board games in a fun and welcoming atmosphere. Join us for an afternoon of relaxation and connection!
URL:https://cranstonra.ca/event/seniors-social-11/
LOCATION:Cranston Century Hall\, 11 Cranarch Rd\, Calgary\, Alberta\, T3M 1S3\, Canada
CATEGORIES:Community Club
ORGANIZER;CN="Cranston Residents Association":MAILTO:info@cranstonra.ca
END:VEVENT
BEGIN:VEVENT
DTSTART;TZID=America/Edmonton:20250418T100000
DTEND;TZID=America/Edmonton:20250418T100000
DTSTAMP:20260419T064709
CREATED:20250405T225612Z
LAST-MODIFIED:20250405T225612Z
UID:10000035-1744970400-1744970400@cranstonra.ca
SUMMARY:Good Friday Stat Holiday Hours
DESCRIPTION:Cranston Residents Association will be open on Good Friday from 10:00 AM to 6:00 PM. Enjoy full access to our facility during this stat holiday—ideal for running errands\, enjoying community spaces\, or simply relaxing. Please note that while most services operate as usual\, some programs or events may be limited on this day.
URL:https://cranstonra.ca/event/good-friday-stat-holiday-hours/
LOCATION:Cranston Century Hall\, 11 Cranarch Rd\, Calgary\, Alberta\, T3M 1S3\, Canada
CATEGORIES:Closures/Reduced Hours
ORGANIZER;CN="Cranston Residents Association":MAILTO:info@cranstonra.ca
END:VEVENT
BEGIN:VEVENT
DTSTART;TZID=America/Edmonton:20250416T130000
DTEND;TZID=America/Edmonton:20250416T130000
DTSTAMP:20260419T064709
CREATED:20250405T225556Z
LAST-MODIFIED:20250405T225556Z
UID:10000029-1744808400-1744808400@cranstonra.ca
SUMMARY:Seniors Social
DESCRIPTION:Every Wednesday from 1:00 PM to 3:00 PM\, seniors in Cranston are invited to gather for tea/coffee\, card games\, and board games in a fun and welcoming atmosphere. Join us for an afternoon of relaxation and connection!
URL:https://cranstonra.ca/event/seniors-social-10/
LOCATION:Cranston Century Hall\, 11 Cranarch Rd\, Calgary\, Alberta\, T3M 1S3\, Canada
CATEGORIES:Community Club
ORGANIZER;CN="Cranston Residents Association":MAILTO:info@cranstonra.ca
END:VEVENT
BEGIN:VEVENT
DTSTART;TZID=America/Edmonton:20250415T183000
DTEND;TZID=America/Edmonton:20250415T183000
DTSTAMP:20260419T064709
CREATED:20250405T225555Z
LAST-MODIFIED:20250405T225555Z
UID:10000026-1744741800-1744741800@cranstonra.ca
SUMMARY:Knitting Club
DESCRIPTION:Join us every third Tuesday of the month from 6:30 PM to 8:30 PM for the Cranston Knitting Club. Whether you’re a seasoned pro or a beginner\, come unwind\, share patterns\, and enjoy great company!
URL:https://cranstonra.ca/event/knitting-club-3/
LOCATION:Cranston Century Hall\, 11 Cranarch Rd\, Calgary\, Alberta\, T3M 1S3\, Canada
CATEGORIES:Community Club
ORGANIZER;CN="Cranston Residents Association":MAILTO:info@cranstonra.ca
END:VEVENT
BEGIN:VEVENT
DTSTART;TZID=America/Edmonton:20250412T150000
DTEND;TZID=America/Edmonton:20250412T150000
DTSTAMP:20260419T064709
CREATED:20250307T223847Z
LAST-MODIFIED:20250405T225555Z
UID:10000001-1744470000-1744470000@cranstonra.ca
SUMMARY:Spring Fling
DESCRIPTION:Mark your calendars for Spring Fling on Saturday\, April 12th! As the flowers bloom and the weather warms up\, join us for a vibrant celebration of the season. We’ll have a variety of fun activities\, games\, and music to get you in the spring spirit. Bring your family and friends to celebrate the beauty of spring\, create lasting memories\, and embrace the fresh energy that comes with this season of renewal!
URL:https://cranstonra.ca/event/spring-fling/
LOCATION:Cranston Century Hall\, 11 Cranarch Rd\, Calgary\, Alberta\, T3M 1S3\, Canada
CATEGORIES:Community Event
ORGANIZER;CN="Cranston Residents Association":MAILTO:info@cranstonra.ca
END:VEVENT
BEGIN:VEVENT
DTSTART;TZID=America/Edmonton:20250411T183000
DTEND;TZID=America/Edmonton:20250411T183000
DTSTAMP:20260419T064709
CREATED:20250405T225557Z
LAST-MODIFIED:20250405T225557Z
UID:10000033-1744396200-1744396200@cranstonra.ca
SUMMARY:Youth Night
DESCRIPTION:Youth Night is a weekly hangout for Cranston kids aged 11-14\, where they can come together to socialize\, play games\, and enjoy the evening.\nActivity for this week: Spring Craft Night
URL:https://cranstonra.ca/event/youth-night-10/
LOCATION:Cranston Century Hall\, 11 Cranarch Rd\, Calgary\, Alberta\, T3M 1S3\, Canada
CATEGORIES:Community Club
ORGANIZER;CN="Cranston Residents Association":MAILTO:info@cranstonra.ca
END:VEVENT
BEGIN:VEVENT
DTSTART;TZID=America/Edmonton:20250409T130000
DTEND;TZID=America/Edmonton:20250409T130000
DTSTAMP:20260419T064709
CREATED:20250405T225555Z
LAST-MODIFIED:20250405T225555Z
UID:10000028-1744203600-1744203600@cranstonra.ca
SUMMARY:Seniors Social
DESCRIPTION:Every Wednesday from 1:00 PM to 3:00 PM\, seniors in Cranston are invited to gather for tea/coffee\, card games\, and board games in a fun and welcoming atmosphere. Join us for an afternoon of relaxation and connection!
URL:https://cranstonra.ca/event/seniors-social-9/
LOCATION:Cranston Century Hall\, 11 Cranarch Rd\, Calgary\, Alberta\, T3M 1S3\, Canada
CATEGORIES:Community Club
ORGANIZER;CN="Cranston Residents Association":MAILTO:info@cranstonra.ca
END:VEVENT
BEGIN:VEVENT
DTSTART;TZID=America/Edmonton:20250404T183000
DTEND;TZID=America/Edmonton:20250404T183000
DTSTAMP:20260419T064709
CREATED:20250405T225557Z
LAST-MODIFIED:20250405T225557Z
UID:10000032-1743791400-1743791400@cranstonra.ca
SUMMARY:Youth Night
DESCRIPTION:Youth Night is a weekly hangout for Cranston kids aged 11-14\, where they can come together to socialize\, play games\, and enjoy the evening.\nActivity for this week: Bob Ross Paint Night
URL:https://cranstonra.ca/event/youth-night-9/
LOCATION:Cranston Century Hall\, 11 Cranarch Rd\, Calgary\, Alberta\, T3M 1S3\, Canada
CATEGORIES:Community Club
ORGANIZER;CN="Cranston Residents Association":MAILTO:info@cranstonra.ca
END:VEVENT
BEGIN:VEVENT
DTSTART;TZID=America/Edmonton:20250403T183000
DTEND;TZID=America/Edmonton:20250403T183000
DTSTAMP:20260419T064709
CREATED:20250405T225555Z
LAST-MODIFIED:20250405T225555Z
UID:10000025-1743705000-1743705000@cranstonra.ca
SUMMARY:Chess Club
DESCRIPTION:Sharpen your mind and challenge others at the Cranston Chess Club. Meeting every first Thursday of the month from 6:30 PM to 8:30 PM\, this club is for all skill levels\, from beginners to seasoned players.
URL:https://cranstonra.ca/event/chess-club-3/
LOCATION:Cranston Century Hall\, 11 Cranarch Rd\, Calgary\, Alberta\, T3M 1S3\, Canada
CATEGORIES:Community Club
ORGANIZER;CN="Cranston Residents Association":MAILTO:info@cranstonra.ca
END:VEVENT
BEGIN:VEVENT
DTSTART;TZID=America/Edmonton:20250402T130000
DTEND;TZID=America/Edmonton:20250402T130000
DTSTAMP:20260419T064709
CREATED:20250405T225555Z
LAST-MODIFIED:20250405T225555Z
UID:10000027-1743598800-1743598800@cranstonra.ca
SUMMARY:Seniors Social
DESCRIPTION:Every Wednesday from 1:00 PM to 3:00 PM\, seniors in Cranston are invited to gather for tea/coffee\, card games\, and board games in a fun and welcoming atmosphere. Join us for an afternoon of relaxation and connection!
URL:https://cranstonra.ca/event/seniors-social-8/
LOCATION:Cranston Century Hall\, 11 Cranarch Rd\, Calgary\, Alberta\, T3M 1S3\, Canada
CATEGORIES:Community Club
ORGANIZER;CN="Cranston Residents Association":MAILTO:info@cranstonra.ca
END:VEVENT
BEGIN:VEVENT
DTSTART;TZID=America/Edmonton:20250328T183000
DTEND;TZID=America/Edmonton:20250328T183000
DTSTAMP:20260419T064709
CREATED:20250307T225132Z
LAST-MODIFIED:20250307T233908Z
UID:10000023-1743186600-1743186600@cranstonra.ca
SUMMARY:Youth Night
DESCRIPTION:Youth Night is a weekly hangout for Cranston kids aged 11-14\, where they can come together to socialize\, play games\, and enjoy the evening.\nActivity for this week: Scavenger Hunt Night
URL:https://cranstonra.ca/event/youth-night-8/
LOCATION:Cranston Century Hall\, 11 Cranarch Rd\, Calgary\, Alberta\, T3M 1S3\, Canada
CATEGORIES:Community Club
ORGANIZER;CN="Cranston Residents Association":MAILTO:info@cranstonra.ca
END:VEVENT
BEGIN:VEVENT
DTSTART;TZID=America/Edmonton:20250326T130000
DTEND;TZID=America/Edmonton:20250326T130000
DTSTAMP:20260419T064709
CREATED:20250307T225117Z
LAST-MODIFIED:20250307T233853Z
UID:10000018-1742994000-1742994000@cranstonra.ca
SUMMARY:Seniors Social
DESCRIPTION:Every Wednesday from 1:00 PM to 3:00 PM\, seniors in Cranston are invited to gather for tea/coffee\, card games\, and board games in a fun and welcoming atmosphere. Join us for an afternoon of relaxation and connection!
URL:https://cranstonra.ca/event/seniors-social-7/
LOCATION:Cranston Century Hall\, 11 Cranarch Rd\, Calgary\, Alberta\, T3M 1S3\, Canada
CATEGORIES:Community Club
ORGANIZER;CN="Cranston Residents Association":MAILTO:info@cranstonra.ca
END:VEVENT
BEGIN:VEVENT
DTSTART;TZID=America/Edmonton:20250321T183000
DTEND;TZID=America/Edmonton:20250321T183000
DTSTAMP:20260419T064709
CREATED:20250307T225132Z
LAST-MODIFIED:20250307T233908Z
UID:10000022-1742581800-1742581800@cranstonra.ca
SUMMARY:Youth Night
DESCRIPTION:Youth Night is a weekly hangout for Cranston kids aged 11-14\, where they can come together to socialize\, play games\, and enjoy the evening.\nActivity for this week: Lanyard/Keychain Making Night
URL:https://cranstonra.ca/event/youth-night-7/
LOCATION:Cranston Century Hall\, 11 Cranarch Rd\, Calgary\, Alberta\, T3M 1S3\, Canada
CATEGORIES:Community Club
ORGANIZER;CN="Cranston Residents Association":MAILTO:info@cranstonra.ca
END:VEVENT
BEGIN:VEVENT
DTSTART;TZID=America/Edmonton:20250319T183000
DTEND;TZID=America/Edmonton:20250319T183000
DTSTAMP:20260419T064709
CREATED:20250307T225117Z
LAST-MODIFIED:20250307T233853Z
UID:10000019-1742409000-1742409000@cranstonra.ca
SUMMARY:Adult Games Night
DESCRIPTION:Every third Wednesday of the month from 6:30 PM to 8:30 PM\, adults are invited to join us for a lively games night with board games\, a bar\, and a concession stand available. A great way to unwind\, socialize\, and have some fun! (Adults only\, please.)
URL:https://cranstonra.ca/event/adult-games-night-2/
LOCATION:Cranston Century Hall\, 11 Cranarch Rd\, Calgary\, Alberta\, T3M 1S3\, Canada
CATEGORIES:Community Club
ORGANIZER;CN="Cranston Residents Association":MAILTO:info@cranstonra.ca
END:VEVENT
BEGIN:VEVENT
DTSTART;TZID=America/Edmonton:20250319T130000
DTEND;TZID=America/Edmonton:20250319T130000
DTSTAMP:20260419T064709
CREATED:20250307T225117Z
LAST-MODIFIED:20250307T233853Z
UID:10000017-1742389200-1742389200@cranstonra.ca
SUMMARY:Seniors Social
DESCRIPTION:Every Wednesday from 1:00 PM to 3:00 PM\, seniors in Cranston are invited to gather for tea/coffee\, card games\, and board games in a fun and welcoming atmosphere. Join us for an afternoon of relaxation and connection!
URL:https://cranstonra.ca/event/seniors-social-6/
LOCATION:Cranston Century Hall\, 11 Cranarch Rd\, Calgary\, Alberta\, T3M 1S3\, Canada
CATEGORIES:Community Club
ORGANIZER;CN="Cranston Residents Association":MAILTO:info@cranstonra.ca
END:VEVENT
BEGIN:VEVENT
DTSTART;TZID=America/Edmonton:20250318T183000
DTEND;TZID=America/Edmonton:20250318T183000
DTSTAMP:20260419T064709
CREATED:20250307T225116Z
LAST-MODIFIED:20250307T233852Z
UID:10000015-1742322600-1742322600@cranstonra.ca
SUMMARY:Knitting Club
DESCRIPTION:Join us every third Tuesday of the month from 6:30 PM to 8:30 PM for the Cranston Knitting Club. Whether you’re a seasoned pro or a beginner\, come unwind\, share patterns\, and enjoy great company!
URL:https://cranstonra.ca/event/knitting-club-2/
LOCATION:Cranston Century Hall\, 11 Cranarch Rd\, Calgary\, Alberta\, T3M 1S3\, Canada
CATEGORIES:Community Club
ORGANIZER;CN="Cranston Residents Association":MAILTO:info@cranstonra.ca
END:VEVENT
BEGIN:VEVENT
DTSTART;TZID=America/Edmonton:20250315T100000
DTEND;TZID=America/Edmonton:20250315T100000
DTSTAMP:20260419T064709
CREATED:20250307T225132Z
LAST-MODIFIED:20250307T233908Z
UID:10000024-1742032800-1742032800@cranstonra.ca
SUMMARY:Vision Board Workshop
DESCRIPTION:Join us for a morning of inspiration at our vision board workshop! Led by Lara Thomas\, we’ll explore how vision boards can help focus your dreams\, clarify your purpose\, and align with your core values. Through a guided visualization meditation\, you’ll ignite your inner flame and start creating a life you love. Then\, we’ll get creative together as a community\, cutting\, sticking\, and bringing our vision boards to life! \nThe Workshop will also include a journal for participants to take home for journaling and goal setting after the workshop.
URL:https://cranstonra.ca/event/vision-board-workshop-2/
LOCATION:Cranston Century Hall\, 11 Cranarch Rd\, Calgary\, Alberta\, T3M 1S3\, Canada
CATEGORIES:Workshop
END:VEVENT
BEGIN:VEVENT
DTSTART;TZID=America/Edmonton:20250314T183000
DTEND;TZID=America/Edmonton:20250314T183000
DTSTAMP:20260419T064709
CREATED:20250307T225117Z
LAST-MODIFIED:20250307T233853Z
UID:10000021-1741977000-1741977000@cranstonra.ca
SUMMARY:Youth Night
DESCRIPTION:Youth Night is a weekly hangout for Cranston kids aged 11-14\, where they can come together to socialize\, play games\, and enjoy the evening.\nActivity for this week: Outdoor Sports Night
URL:https://cranstonra.ca/event/youth-night-6/
LOCATION:Cranston Century Hall\, 11 Cranarch Rd\, Calgary\, Alberta\, T3M 1S3\, Canada
CATEGORIES:Community Club
ORGANIZER;CN="Cranston Residents Association":MAILTO:info@cranstonra.ca
END:VEVENT
BEGIN:VEVENT
DTSTART;TZID=America/Edmonton:20250312T130000
DTEND;TZID=America/Edmonton:20250312T130000
DTSTAMP:20260419T064709
CREATED:20250307T225116Z
LAST-MODIFIED:20250307T233852Z
UID:10000016-1741784400-1741784400@cranstonra.ca
SUMMARY:Seniors Social
DESCRIPTION:Every Wednesday from 1:00 PM to 3:00 PM\, seniors in Cranston are invited to gather for tea/coffee\, card games\, and board games in a fun and welcoming atmosphere. Join us for an afternoon of relaxation and connection!
URL:https://cranstonra.ca/event/seniors-social-5/
LOCATION:Cranston Century Hall\, 11 Cranarch Rd\, Calgary\, Alberta\, T3M 1S3\, Canada
CATEGORIES:Community Club
ORGANIZER;CN="Cranston Residents Association":MAILTO:info@cranstonra.ca
END:VEVENT
BEGIN:VEVENT
DTSTART;TZID=America/Edmonton:20250307T183000
DTEND;TZID=America/Edmonton:20250307T183000
DTSTAMP:20260419T064709
CREATED:20250307T225117Z
LAST-MODIFIED:20250307T233853Z
UID:10000020-1741372200-1741372200@cranstonra.ca
SUMMARY:Youth Night
DESCRIPTION:Youth Night is a weekly hangout for Cranston kids aged 11-14\, where they can come together to socialize\, play games\, and enjoy the evening.\nActivity for this week: Board Game Night
URL:https://cranstonra.ca/event/youth-night-5/
LOCATION:Cranston Century Hall\, 11 Cranarch Rd\, Calgary\, Alberta\, T3M 1S3\, Canada
CATEGORIES:Community Club
ORGANIZER;CN="Cranston Residents Association":MAILTO:info@cranstonra.ca
END:VEVENT
BEGIN:VEVENT
DTSTART;TZID=America/Edmonton:20250306T183000
DTEND;TZID=America/Edmonton:20250306T183000
DTSTAMP:20260419T064709
CREATED:20250307T225116Z
LAST-MODIFIED:20250307T233852Z
UID:10000014-1741285800-1741285800@cranstonra.ca
SUMMARY:Chess Club
DESCRIPTION:Sharpen your mind and challenge others at the Cranston Chess Club. Meeting every first Thursday of the month from 6:30 PM to 8:30 PM\, this club is for all skill levels\, from beginners to seasoned players.
URL:https://cranstonra.ca/event/chess-club-2/
LOCATION:Cranston Century Hall\, 11 Cranarch Rd\, Calgary\, Alberta\, T3M 1S3\, Canada
CATEGORIES:Community Club
ORGANIZER;CN="Cranston Residents Association":MAILTO:info@cranstonra.ca
END:VEVENT
BEGIN:VEVENT
DTSTART;TZID=America/Edmonton:20250305T130000
DTEND;TZID=America/Edmonton:20250305T130000
DTSTAMP:20260419T064709
CREATED:20250307T223847Z
LAST-MODIFIED:20250307T233852Z
UID:10000004-1741179600-1741179600@cranstonra.ca
SUMMARY:Seniors Social
DESCRIPTION:Every Wednesday from 1:00 PM to 3:00 PM\, seniors in Cranston are invited to gather for tea/coffee\, card games\, and board games in a fun and welcoming atmosphere. Join us for an afternoon of relaxation and connection!
URL:https://cranstonra.ca/event/seniors-social/
LOCATION:Cranston Century Hall\, 11 Cranarch Rd\, Calgary\, Alberta\, T3M 1S3\, Canada
CATEGORIES:Community Club
ORGANIZER;CN="Cranston Residents Association":MAILTO:info@cranstonra.ca
END:VEVENT
END:VCALENDAR