BEGIN:VCALENDAR
VERSION:2.0
PRODID:-//Cranston Residents Association - ECPv6.14.2//NONSGML v1.0//EN
CALSCALE:GREGORIAN
METHOD:PUBLISH
X-WR-CALNAME:Cranston Residents Association
X-ORIGINAL-URL:https://cranstonra.ca
X-WR-CALDESC:Events for Cranston Residents Association
REFRESH-INTERVAL;VALUE=DURATION:PT1H
X-Robots-Tag:noindex
X-PUBLISHED-TTL:PT1H
BEGIN:VTIMEZONE
TZID:America/Edmonton
BEGIN:DAYLIGHT
TZOFFSETFROM:-0700
TZOFFSETTO:-0600
TZNAME:MDT
DTSTART:20250309T090000
END:DAYLIGHT
BEGIN:STANDARD
TZOFFSETFROM:-0600
TZOFFSETTO:-0700
TZNAME:MST
DTSTART:20251102T080000
END:STANDARD
END:VTIMEZONE
BEGIN:VEVENT
DTSTART;TZID=America/Edmonton:20250829T183000
DTEND;TZID=America/Edmonton:20250829T183000
DTSTAMP:20260421T181957
CREATED:20250520T201901Z
LAST-MODIFIED:20250718T200153Z
UID:10000073-1756492200-1756492200@cranstonra.ca
SUMMARY:Youth Night
DESCRIPTION:Youth Night is a weekly hangout for Cranston kids aged 11-14\, where they can come together to socialize\, play games\, and enjoy the evening.
URL:https://cranstonra.ca/event/youth-night-24/
LOCATION:Cranston Century Hall\, 11 Cranarch Rd\, Calgary\, Alberta\, T3M 1S3\, Canada
CATEGORIES:Community Club
ORGANIZER;CN="Cranston Residents Association":MAILTO:info@cranstonra.ca
END:VEVENT
BEGIN:VEVENT
DTSTART;TZID=America/Edmonton:20250827T130000
DTEND;TZID=America/Edmonton:20250827T130000
DTSTAMP:20260421T181957
CREATED:20250520T201846Z
LAST-MODIFIED:20250520T201846Z
UID:10000068-1756299600-1756299600@cranstonra.ca
SUMMARY:Seniors Social
DESCRIPTION:Every Wednesday from 1:00 PM to 3:00 PM\, seniors in Cranston are invited to gather for tea/coffee\, card games\, and board games in a fun and welcoming atmosphere. Join us for an afternoon of relaxation and connection!
URL:https://cranstonra.ca/event/seniors-social-25/
LOCATION:Cranston Century Hall\, 11 Cranarch Rd\, Calgary\, Alberta\, T3M 1S3\, Canada
CATEGORIES:Community Club
ORGANIZER;CN="Cranston Residents Association":MAILTO:info@cranstonra.ca
END:VEVENT
BEGIN:VEVENT
DTSTART;TZID=America/Edmonton:20250822T183000
DTEND;TZID=America/Edmonton:20250822T183000
DTSTAMP:20260421T181957
CREATED:20250520T201901Z
LAST-MODIFIED:20250718T200117Z
UID:10000072-1755887400-1755887400@cranstonra.ca
SUMMARY:Youth Night
DESCRIPTION:Youth Night is a weekly hangout for Cranston kids aged 11-14\, where they can come together to socialize\, play games\, and enjoy the evening.
URL:https://cranstonra.ca/event/youth-night-23/
LOCATION:Cranston Century Hall\, 11 Cranarch Rd\, Calgary\, Alberta\, T3M 1S3\, Canada
CATEGORIES:Community Club
ORGANIZER;CN="Cranston Residents Association":MAILTO:info@cranstonra.ca
END:VEVENT
BEGIN:VEVENT
DTSTART;TZID=America/Edmonton:20250820T130000
DTEND;TZID=America/Edmonton:20250820T130000
DTSTAMP:20260421T181957
CREATED:20250520T201846Z
LAST-MODIFIED:20250520T201846Z
UID:10000067-1755694800-1755694800@cranstonra.ca
SUMMARY:Seniors Social
DESCRIPTION:Every Wednesday from 1:00 PM to 3:00 PM\, seniors in Cranston are invited to gather for tea/coffee\, card games\, and board games in a fun and welcoming atmosphere. Join us for an afternoon of relaxation and connection!
URL:https://cranstonra.ca/event/seniors-social-24/
LOCATION:Cranston Century Hall\, 11 Cranarch Rd\, Calgary\, Alberta\, T3M 1S3\, Canada
CATEGORIES:Community Club
ORGANIZER;CN="Cranston Residents Association":MAILTO:info@cranstonra.ca
END:VEVENT
BEGIN:VEVENT
DTSTART;TZID=America/Edmonton:20250819T183000
DTEND;TZID=America/Edmonton:20250819T183000
DTSTAMP:20260421T181957
CREATED:20250520T201832Z
LAST-MODIFIED:20250520T201832Z
UID:10000064-1755628200-1755628200@cranstonra.ca
SUMMARY:Knitting Club
DESCRIPTION:Join us every third Tuesday of the month from 6:30 PM to 8:30 PM for the Cranston Knitting Club. Whether you’re a seasoned pro or a beginner\, come unwind\, share patterns\, and enjoy great company!
URL:https://cranstonra.ca/event/knitting-club-6/
LOCATION:Cranston Century Hall\, 11 Cranarch Rd\, Calgary\, Alberta\, T3M 1S3\, Canada
CATEGORIES:Community Club
ORGANIZER;CN="Cranston Residents Association":MAILTO:info@cranstonra.ca
END:VEVENT
BEGIN:VEVENT
DTSTART;TZID=America/Edmonton:20250815T183000
DTEND;TZID=America/Edmonton:20250815T183000
DTSTAMP:20260421T181957
CREATED:20250520T201847Z
LAST-MODIFIED:20250718T195715Z
UID:10000071-1755282600-1755282600@cranstonra.ca
SUMMARY:Youth Night
DESCRIPTION:Youth Night is a weekly hangout for Cranston kids aged 11-14\, where they can come together to socialize\, play games\, and enjoy the evening.
URL:https://cranstonra.ca/event/youth-night-22/
LOCATION:Cranston Century Hall\, 11 Cranarch Rd\, Calgary\, Alberta\, T3M 1S3\, Canada
CATEGORIES:Community Club
ORGANIZER;CN="Cranston Residents Association":MAILTO:info@cranstonra.ca
END:VEVENT
BEGIN:VEVENT
DTSTART;TZID=America/Edmonton:20250813T130000
DTEND;TZID=America/Edmonton:20250813T130000
DTSTAMP:20260421T181957
CREATED:20250520T201832Z
LAST-MODIFIED:20250520T201832Z
UID:10000066-1755090000-1755090000@cranstonra.ca
SUMMARY:Seniors Social
DESCRIPTION:Every Wednesday from 1:00 PM to 3:00 PM\, seniors in Cranston are invited to gather for tea/coffee\, card games\, and board games in a fun and welcoming atmosphere. Join us for an afternoon of relaxation and connection!
URL:https://cranstonra.ca/event/seniors-social-23/
LOCATION:Cranston Century Hall\, 11 Cranarch Rd\, Calgary\, Alberta\, T3M 1S3\, Canada
CATEGORIES:Community Club
ORGANIZER;CN="Cranston Residents Association":MAILTO:info@cranstonra.ca
END:VEVENT
BEGIN:VEVENT
DTSTART;TZID=America/Edmonton:20250810T150000
DTEND;TZID=America/Edmonton:20250810T150000
DTSTAMP:20260421T181957
CREATED:20250520T201947Z
LAST-MODIFIED:20250520T202106Z
UID:10000091-1754838000-1754838000@cranstonra.ca
SUMMARY:Birthday Party Package Available
DESCRIPTION:Looking to book a birthday party at Century Hall? This time slot is currently available! Visit the link to learn more and reserve your spot.
URL:https://cranstonra.ca/event/birthday-party-package-available-18/
LOCATION:Cranston Century Hall\, 11 Cranarch Rd\, Calgary\, Alberta\, T3M 1S3\, Canada
CATEGORIES:Rental
ORGANIZER;CN="Cranston Residents Association":MAILTO:info@cranstonra.ca
END:VEVENT
BEGIN:VEVENT
DTSTART;TZID=America/Edmonton:20250809T100000
DTEND;TZID=America/Edmonton:20250809T100000
DTSTAMP:20260421T181957
CREATED:20250520T201831Z
LAST-MODIFIED:20250520T201831Z
UID:10000062-1754733600-1754733600@cranstonra.ca
SUMMARY:Amazing Race
DESCRIPTION:Back on Saturday\, August 10 from 10am–2pm!\nTeams will race through Cranston completing fun challenges and roadblocks. Open to all ages and abilities—walk\, run\, bike\, or drive! Prizes for fastest team on foot and best team spirit.
URL:https://cranstonra.ca/event/amazing-race/
LOCATION:Cranston Century Hall\, 11 Cranarch Rd\, Calgary\, Alberta\, T3M 1S3\, Canada
CATEGORIES:Community Event
ORGANIZER;CN="Cranston Residents Association":MAILTO:info@cranstonra.ca
END:VEVENT
BEGIN:VEVENT
DTSTART;TZID=America/Edmonton:20250808T183000
DTEND;TZID=America/Edmonton:20250808T183000
DTSTAMP:20260421T181957
CREATED:20250520T201847Z
LAST-MODIFIED:20250718T195746Z
UID:10000070-1754677800-1754677800@cranstonra.ca
SUMMARY:Youth Night
DESCRIPTION:Youth Night is a weekly hangout for Cranston kids aged 11-14\, where they can come together to socialize\, play games\, and enjoy the evening.
URL:https://cranstonra.ca/event/youth-night-21/
LOCATION:Cranston Century Hall\, 11 Cranarch Rd\, Calgary\, Alberta\, T3M 1S3\, Canada
CATEGORIES:Community Club
ORGANIZER;CN="Cranston Residents Association":MAILTO:info@cranstonra.ca
END:VEVENT
BEGIN:VEVENT
DTSTART;TZID=America/Edmonton:20250807T183000
DTEND;TZID=America/Edmonton:20250807T183000
DTSTAMP:20260421T181957
CREATED:20250520T201831Z
LAST-MODIFIED:20250520T201831Z
UID:10000063-1754591400-1754591400@cranstonra.ca
SUMMARY:Chess Club
DESCRIPTION:Sharpen your mind and challenge others at the Cranston Chess Club. Meeting every first Thursday of the month from 6:30 PM to 8:30 PM\, this club is for all skill levels\, from beginners to seasoned players.
URL:https://cranstonra.ca/event/chess-club-6/
LOCATION:Cranston Century Hall\, 11 Cranarch Rd\, Calgary\, Alberta\, T3M 1S3\, Canada
CATEGORIES:Community Club
ORGANIZER;CN="Cranston Residents Association":MAILTO:info@cranstonra.ca
END:VEVENT
BEGIN:VEVENT
DTSTART;TZID=America/Edmonton:20250806T130000
DTEND;TZID=America/Edmonton:20250806T130000
DTSTAMP:20260421T181957
CREATED:20250520T201832Z
LAST-MODIFIED:20250520T201832Z
UID:10000065-1754485200-1754485200@cranstonra.ca
SUMMARY:Seniors Social
DESCRIPTION:Every Wednesday from 1:00 PM to 3:00 PM\, seniors in Cranston are invited to gather for tea/coffee\, card games\, and board games in a fun and welcoming atmosphere. Join us for an afternoon of relaxation and connection!
URL:https://cranstonra.ca/event/seniors-social-22/
LOCATION:Cranston Century Hall\, 11 Cranarch Rd\, Calgary\, Alberta\, T3M 1S3\, Canada
CATEGORIES:Community Club
ORGANIZER;CN="Cranston Residents Association":MAILTO:info@cranstonra.ca
END:VEVENT
BEGIN:VEVENT
DTSTART;TZID=America/Edmonton:20250803T150000
DTEND;TZID=America/Edmonton:20250803T150000
DTSTAMP:20260421T181957
CREATED:20250520T201947Z
LAST-MODIFIED:20250520T202106Z
UID:10000088-1754233200-1754233200@cranstonra.ca
SUMMARY:Birthday Party Package Available
DESCRIPTION:Looking to book a birthday party at Century Hall? This time slot is currently available! Visit the link to learn more and reserve your spot.
URL:https://cranstonra.ca/event/birthday-party-package-available-15/
LOCATION:Cranston Century Hall\, 11 Cranarch Rd\, Calgary\, Alberta\, T3M 1S3\, Canada
CATEGORIES:Rental
ORGANIZER;CN="Cranston Residents Association":MAILTO:info@cranstonra.ca
END:VEVENT
BEGIN:VEVENT
DTSTART;TZID=America/Edmonton:20250802T150000
DTEND;TZID=America/Edmonton:20250802T150000
DTSTAMP:20260421T181957
CREATED:20250520T201946Z
LAST-MODIFIED:20250520T202106Z
UID:10000087-1754146800-1754146800@cranstonra.ca
SUMMARY:Birthday Party Package Available
DESCRIPTION:Looking to book a birthday party at Century Hall? This time slot is currently available! Visit the link to learn more and reserve your spot.
URL:https://cranstonra.ca/event/birthday-party-package-available-14/
LOCATION:Cranston Century Hall\, 11 Cranarch Rd\, Calgary\, Alberta\, T3M 1S3\, Canada
CATEGORIES:Rental
ORGANIZER;CN="Cranston Residents Association":MAILTO:info@cranstonra.ca
END:VEVENT
BEGIN:VEVENT
DTSTART;TZID=America/Edmonton:20250802T123000
DTEND;TZID=America/Edmonton:20250802T123000
DTSTAMP:20260421T181957
CREATED:20250520T201932Z
LAST-MODIFIED:20250520T201932Z
UID:10000086-1754137800-1754137800@cranstonra.ca
SUMMARY:Birthday Party Package Available
DESCRIPTION:Looking to book a birthday party at Century Hall? This time slot is currently available! Visit the link to learn more and reserve your spot.
URL:https://cranstonra.ca/event/birthday-party-package-available-13/
LOCATION:Cranston Century Hall\, 11 Cranarch Rd\, Calgary\, Alberta\, T3M 1S3\, Canada
CATEGORIES:Rental
ORGANIZER;CN="Cranston Residents Association":MAILTO:info@cranstonra.ca
END:VEVENT
BEGIN:VEVENT
DTSTART;TZID=America/Edmonton:20250801T183000
DTEND;TZID=America/Edmonton:20250801T183000
DTSTAMP:20260421T181957
CREATED:20250520T201846Z
LAST-MODIFIED:20250718T195936Z
UID:10000069-1754073000-1754073000@cranstonra.ca
SUMMARY:Youth Night
DESCRIPTION:Youth Night is a weekly hangout for Cranston kids aged 11-14\, where they can come together to socialize\, play games\, and enjoy the evening.
URL:https://cranstonra.ca/event/youth-night-20/
LOCATION:Cranston Century Hall\, 11 Cranarch Rd\, Calgary\, Alberta\, T3M 1S3\, Canada
CATEGORIES:Community Club
ORGANIZER;CN="Cranston Residents Association":MAILTO:info@cranstonra.ca
END:VEVENT
BEGIN:VEVENT
DTSTART;TZID=America/Edmonton:20250730T130000
DTEND;TZID=America/Edmonton:20250730T130000
DTSTAMP:20260421T181957
CREATED:20250520T201816Z
LAST-MODIFIED:20250520T201816Z
UID:10000057-1753880400-1753880400@cranstonra.ca
SUMMARY:Seniors Social
DESCRIPTION:Every Wednesday from 1:00 PM to 3:00 PM\, seniors in Cranston are invited to gather for tea/coffee\, card games\, and board games in a fun and welcoming atmosphere. Join us for an afternoon of relaxation and connection!
URL:https://cranstonra.ca/event/seniors-social-21/
LOCATION:Cranston Century Hall\, 11 Cranarch Rd\, Calgary\, Alberta\, T3M 1S3\, Canada
CATEGORIES:Community Club
ORGANIZER;CN="Cranston Residents Association":MAILTO:info@cranstonra.ca
END:VEVENT
BEGIN:VEVENT
DTSTART;TZID=America/Edmonton:20250727T150000
DTEND;TZID=America/Edmonton:20250727T150000
DTSTAMP:20260421T181957
CREATED:20250520T201932Z
LAST-MODIFIED:20250520T201932Z
UID:10000085-1753628400-1753628400@cranstonra.ca
SUMMARY:Birthday Party Package Available
DESCRIPTION:Looking to book a birthday party at Century Hall? This time slot is currently available! Visit the link to learn more and reserve your spot.
URL:https://cranstonra.ca/event/birthday-party-package-available-12/
LOCATION:Cranston Century Hall\, 11 Cranarch Rd\, Calgary\, Alberta\, T3M 1S3\, Canada
CATEGORIES:Rental
ORGANIZER;CN="Cranston Residents Association":MAILTO:info@cranstonra.ca
END:VEVENT
BEGIN:VEVENT
DTSTART;TZID=America/Edmonton:20250725T183000
DTEND;TZID=America/Edmonton:20250725T183000
DTSTAMP:20260421T181957
CREATED:20250520T201817Z
LAST-MODIFIED:20250721T173619Z
UID:10000061-1753468200-1753468200@cranstonra.ca
SUMMARY:Youth Night
DESCRIPTION:Youth Night is a weekly hangout for Cranston kids aged 11-14\, where they can come together to socialize\, play games\, and enjoy the evening. This week’s youth night is: Origami & Karaoke Night
URL:https://cranstonra.ca/event/youth-night-19/
LOCATION:Cranston Century Hall\, 11 Cranarch Rd\, Calgary\, Alberta\, T3M 1S3\, Canada
CATEGORIES:Community Club
ORGANIZER;CN="Cranston Residents Association":MAILTO:info@cranstonra.ca
END:VEVENT
BEGIN:VEVENT
DTSTART;TZID=America/Edmonton:20250725T180000
DTEND;TZID=America/Edmonton:20250725T180000
DTSTAMP:20260421T181957
CREATED:20250520T201746Z
LAST-MODIFIED:20250520T201746Z
UID:10000049-1753466400-1753466400@cranstonra.ca
SUMMARY:Midsummer Boost
DESCRIPTION:Join us in the park for a relaxed summer gathering! We’ll have good food\, great music\, and some fun games for the kids—a perfect way to recharge and connect with neighbours mid-season. \nCome hang out\, enjoy the sunshine\, and make the most of summer in Cranston!
URL:https://cranstonra.ca/event/midsummer-boost/
LOCATION:Cranston Century Hall\, 11 Cranarch Rd\, Calgary\, Alberta\, T3M 1S3\, Canada
CATEGORIES:Community Event
ORGANIZER;CN="Cranston Residents Association":MAILTO:info@cranstonra.ca
END:VEVENT
BEGIN:VEVENT
DTSTART;TZID=America/Edmonton:20250723T130000
DTEND;TZID=America/Edmonton:20250723T130000
DTSTAMP:20260421T181957
CREATED:20250520T201802Z
LAST-MODIFIED:20250520T201802Z
UID:10000056-1753275600-1753275600@cranstonra.ca
SUMMARY:Seniors Social
DESCRIPTION:Every Wednesday from 1:00 PM to 3:00 PM\, seniors in Cranston are invited to gather for tea/coffee\, card games\, and board games in a fun and welcoming atmosphere. Join us for an afternoon of relaxation and connection!
URL:https://cranstonra.ca/event/seniors-social-20/
LOCATION:Cranston Century Hall\, 11 Cranarch Rd\, Calgary\, Alberta\, T3M 1S3\, Canada
CATEGORIES:Community Club
ORGANIZER;CN="Cranston Residents Association":MAILTO:info@cranstonra.ca
END:VEVENT
BEGIN:VEVENT
DTSTART;TZID=America/Edmonton:20250720T150000
DTEND;TZID=America/Edmonton:20250720T150000
DTSTAMP:20260421T181957
CREATED:20250520T201931Z
LAST-MODIFIED:20250520T201931Z
UID:10000082-1753023600-1753023600@cranstonra.ca
SUMMARY:Birthday Party Package Available
DESCRIPTION:Looking to book a birthday party at Century Hall? This time slot is currently available! Visit the link to learn more and reserve your spot.
URL:https://cranstonra.ca/event/birthday-party-package-available-9/
LOCATION:Cranston Century Hall\, 11 Cranarch Rd\, Calgary\, Alberta\, T3M 1S3\, Canada
CATEGORIES:Rental
ORGANIZER;CN="Cranston Residents Association":MAILTO:info@cranstonra.ca
END:VEVENT
BEGIN:VEVENT
DTSTART;TZID=America/Edmonton:20250719T150000
DTEND;TZID=America/Edmonton:20250719T150000
DTSTAMP:20260421T181957
CREATED:20250520T201917Z
LAST-MODIFIED:20250520T201917Z
UID:10000081-1752937200-1752937200@cranstonra.ca
SUMMARY:Birthday Party Package Available
DESCRIPTION:Looking to book a birthday party at Century Hall? This time slot is currently available! Visit the link to learn more and reserve your spot.
URL:https://cranstonra.ca/event/birthday-party-package-available-8/
LOCATION:Cranston Century Hall\, 11 Cranarch Rd\, Calgary\, Alberta\, T3M 1S3\, Canada
CATEGORIES:Rental
ORGANIZER;CN="Cranston Residents Association":MAILTO:info@cranstonra.ca
END:VEVENT
BEGIN:VEVENT
DTSTART;TZID=America/Edmonton:20250718T183000
DTEND;TZID=America/Edmonton:20250718T183000
DTSTAMP:20260421T181957
CREATED:20250520T201817Z
LAST-MODIFIED:20250718T195850Z
UID:10000060-1752863400-1752863400@cranstonra.ca
SUMMARY:Youth Night
DESCRIPTION:Youth Night is a weekly hangout for Cranston kids aged 11-14\, where they can come together to socialize\, play games\, and enjoy the evening.
URL:https://cranstonra.ca/event/youth-night-18/
LOCATION:Cranston Century Hall\, 11 Cranarch Rd\, Calgary\, Alberta\, T3M 1S3\, Canada
CATEGORIES:Community Club
ORGANIZER;CN="Cranston Residents Association":MAILTO:info@cranstonra.ca
END:VEVENT
BEGIN:VEVENT
DTSTART;TZID=America/Edmonton:20250716T130000
DTEND;TZID=America/Edmonton:20250716T130000
DTSTAMP:20260421T181957
CREATED:20250520T201802Z
LAST-MODIFIED:20250520T201802Z
UID:10000055-1752670800-1752670800@cranstonra.ca
SUMMARY:Seniors Social
DESCRIPTION:Every Wednesday from 1:00 PM to 3:00 PM\, seniors in Cranston are invited to gather for tea/coffee\, card games\, and board games in a fun and welcoming atmosphere. Join us for an afternoon of relaxation and connection!
URL:https://cranstonra.ca/event/seniors-social-19/
LOCATION:Cranston Century Hall\, 11 Cranarch Rd\, Calgary\, Alberta\, T3M 1S3\, Canada
CATEGORIES:Community Club
ORGANIZER;CN="Cranston Residents Association":MAILTO:info@cranstonra.ca
END:VEVENT
BEGIN:VEVENT
DTSTART;TZID=America/Edmonton:20250715T183000
DTEND;TZID=America/Edmonton:20250715T183000
DTSTAMP:20260421T181957
CREATED:20250520T201747Z
LAST-MODIFIED:20250520T201747Z
UID:10000051-1752604200-1752604200@cranstonra.ca
SUMMARY:Knitting Club
DESCRIPTION:Join us every third Tuesday of the month from 6:30 PM to 8:30 PM for the Cranston Knitting Club. Whether you’re a seasoned pro or a beginner\, come unwind\, share patterns\, and enjoy great company!
URL:https://cranstonra.ca/event/knitting-club-5/
LOCATION:Cranston Century Hall\, 11 Cranarch Rd\, Calgary\, Alberta\, T3M 1S3\, Canada
CATEGORIES:Community Club
ORGANIZER;CN="Cranston Residents Association":MAILTO:info@cranstonra.ca
END:VEVENT
BEGIN:VEVENT
DTSTART;TZID=America/Edmonton:20250713T150000
DTEND;TZID=America/Edmonton:20250713T150000
DTSTAMP:20260421T181957
CREATED:20250520T201917Z
LAST-MODIFIED:20250520T201917Z
UID:10000080-1752418800-1752418800@cranstonra.ca
SUMMARY:Birthday Party Package Available
DESCRIPTION:Looking to book a birthday party at Century Hall? This time slot is currently available! Visit the link to learn more and reserve your spot.
URL:https://cranstonra.ca/event/birthday-party-package-available-7/
LOCATION:Cranston Century Hall\, 11 Cranarch Rd\, Calgary\, Alberta\, T3M 1S3\, Canada
CATEGORIES:Rental
ORGANIZER;CN="Cranston Residents Association":MAILTO:info@cranstonra.ca
END:VEVENT
BEGIN:VEVENT
DTSTART;TZID=America/Edmonton:20250711T183000
DTEND;TZID=America/Edmonton:20250711T183000
DTSTAMP:20260421T181957
CREATED:20250520T201817Z
LAST-MODIFIED:20250718T195918Z
UID:10000059-1752258600-1752258600@cranstonra.ca
SUMMARY:Youth Night
DESCRIPTION:Youth Night is a weekly hangout for Cranston kids aged 11-14\, where they can come together to socialize\, play games\, and enjoy the evening.
URL:https://cranstonra.ca/event/youth-night-17/
LOCATION:Cranston Century Hall\, 11 Cranarch Rd\, Calgary\, Alberta\, T3M 1S3\, Canada
CATEGORIES:Community Club
ORGANIZER;CN="Cranston Residents Association":MAILTO:info@cranstonra.ca
END:VEVENT
BEGIN:VEVENT
DTSTART;TZID=America/Edmonton:20250709T130000
DTEND;TZID=America/Edmonton:20250709T130000
DTSTAMP:20260421T181957
CREATED:20250520T201802Z
LAST-MODIFIED:20250520T201802Z
UID:10000054-1752066000-1752066000@cranstonra.ca
SUMMARY:Seniors Social
DESCRIPTION:Every Wednesday from 1:00 PM to 3:00 PM\, seniors in Cranston are invited to gather for tea/coffee\, card games\, and board games in a fun and welcoming atmosphere. Join us for an afternoon of relaxation and connection!
URL:https://cranstonra.ca/event/seniors-social-18/
LOCATION:Cranston Century Hall\, 11 Cranarch Rd\, Calgary\, Alberta\, T3M 1S3\, Canada
CATEGORIES:Community Club
ORGANIZER;CN="Cranston Residents Association":MAILTO:info@cranstonra.ca
END:VEVENT
BEGIN:VEVENT
DTSTART;TZID=America/Edmonton:20250706T150000
DTEND;TZID=America/Edmonton:20250706T150000
DTSTAMP:20260421T181957
CREATED:20250520T201917Z
LAST-MODIFIED:20250520T201917Z
UID:10000079-1751814000-1751814000@cranstonra.ca
SUMMARY:Birthday Party Package Available
DESCRIPTION:Looking to book a birthday party at Century Hall? This time slot is currently available! Visit the link to learn more and reserve your spot.
URL:https://cranstonra.ca/event/birthday-party-package-available-6/
LOCATION:Cranston Century Hall\, 11 Cranarch Rd\, Calgary\, Alberta\, T3M 1S3\, Canada
CATEGORIES:Rental
ORGANIZER;CN="Cranston Residents Association":MAILTO:info@cranstonra.ca
END:VEVENT
END:VCALENDAR