BEGIN:VCALENDAR
VERSION:2.0
PRODID:-//Cranston Residents Association - ECPv6.14.2//NONSGML v1.0//EN
CALSCALE:GREGORIAN
METHOD:PUBLISH
X-ORIGINAL-URL:https://cranstonra.ca
X-WR-CALDESC:Events for Cranston Residents Association
REFRESH-INTERVAL;VALUE=DURATION:PT1H
X-Robots-Tag:noindex
X-PUBLISHED-TTL:PT1H
BEGIN:VTIMEZONE
TZID:America/Edmonton
BEGIN:DAYLIGHT
TZOFFSETFROM:-0700
TZOFFSETTO:-0600
TZNAME:MDT
DTSTART:20250309T090000
END:DAYLIGHT
BEGIN:STANDARD
TZOFFSETFROM:-0600
TZOFFSETTO:-0700
TZNAME:MST
DTSTART:20251102T080000
END:STANDARD
END:VTIMEZONE
BEGIN:VEVENT
DTSTART;TZID=America/Edmonton:20250702T130000
DTEND;TZID=America/Edmonton:20250702T130000
DTSTAMP:20260423T104531
CREATED:20250520T201801Z
LAST-MODIFIED:20250520T201801Z
UID:10000053-1751461200-1751461200@cranstonra.ca
SUMMARY:Seniors Social
DESCRIPTION:Every Wednesday from 1:00 PM to 3:00 PM\, seniors in Cranston are invited to gather for tea/coffee\, card games\, and board games in a fun and welcoming atmosphere. Join us for an afternoon of relaxation and connection!
URL:https://cranstonra.ca/event/seniors-social-17/
LOCATION:Cranston Century Hall\, 11 Cranarch Rd\, Calgary\, Alberta\, T3M 1S3\, Canada
CATEGORIES:Community Club
ORGANIZER;CN="Cranston Residents Association":MAILTO:info@cranstonra.ca
END:VEVENT
BEGIN:VEVENT
DTSTART;TZID=America/Edmonton:20250703T183000
DTEND;TZID=America/Edmonton:20250703T183000
DTSTAMP:20260423T104531
CREATED:20250520T201801Z
LAST-MODIFIED:20250520T201801Z
UID:10000052-1751567400-1751567400@cranstonra.ca
SUMMARY:Chess Club
DESCRIPTION:Sharpen your mind and challenge others at the Cranston Chess Club. Meeting every first Thursday of the month from 6:30 PM to 8:30 PM\, this club is for all skill levels\, from beginners to seasoned players.
URL:https://cranstonra.ca/event/chess-club-5/
LOCATION:Cranston Century Hall\, 11 Cranarch Rd\, Calgary\, Alberta\, T3M 1S3\, Canada
CATEGORIES:Community Club
ORGANIZER;CN="Cranston Residents Association":MAILTO:info@cranstonra.ca
END:VEVENT
BEGIN:VEVENT
DTSTART;TZID=America/Edmonton:20250704T183000
DTEND;TZID=America/Edmonton:20250704T183000
DTSTAMP:20260423T104531
CREATED:20250520T201816Z
LAST-MODIFIED:20250718T200008Z
UID:10000058-1751653800-1751653800@cranstonra.ca
SUMMARY:Youth Night
DESCRIPTION:Youth Night is a weekly hangout for Cranston kids aged 11-14\, where they can come together to socialize\, play games\, and enjoy the evening.
URL:https://cranstonra.ca/event/youth-night-16/
LOCATION:Cranston Century Hall\, 11 Cranarch Rd\, Calgary\, Alberta\, T3M 1S3\, Canada
CATEGORIES:Community Club
ORGANIZER;CN="Cranston Residents Association":MAILTO:info@cranstonra.ca
END:VEVENT
BEGIN:VEVENT
DTSTART;TZID=America/Edmonton:20250709T130000
DTEND;TZID=America/Edmonton:20250709T130000
DTSTAMP:20260423T104531
CREATED:20250520T201802Z
LAST-MODIFIED:20250520T201802Z
UID:10000054-1752066000-1752066000@cranstonra.ca
SUMMARY:Seniors Social
DESCRIPTION:Every Wednesday from 1:00 PM to 3:00 PM\, seniors in Cranston are invited to gather for tea/coffee\, card games\, and board games in a fun and welcoming atmosphere. Join us for an afternoon of relaxation and connection!
URL:https://cranstonra.ca/event/seniors-social-18/
LOCATION:Cranston Century Hall\, 11 Cranarch Rd\, Calgary\, Alberta\, T3M 1S3\, Canada
CATEGORIES:Community Club
ORGANIZER;CN="Cranston Residents Association":MAILTO:info@cranstonra.ca
END:VEVENT
BEGIN:VEVENT
DTSTART;TZID=America/Edmonton:20250711T183000
DTEND;TZID=America/Edmonton:20250711T183000
DTSTAMP:20260423T104531
CREATED:20250520T201817Z
LAST-MODIFIED:20250718T195918Z
UID:10000059-1752258600-1752258600@cranstonra.ca
SUMMARY:Youth Night
DESCRIPTION:Youth Night is a weekly hangout for Cranston kids aged 11-14\, where they can come together to socialize\, play games\, and enjoy the evening.
URL:https://cranstonra.ca/event/youth-night-17/
LOCATION:Cranston Century Hall\, 11 Cranarch Rd\, Calgary\, Alberta\, T3M 1S3\, Canada
CATEGORIES:Community Club
ORGANIZER;CN="Cranston Residents Association":MAILTO:info@cranstonra.ca
END:VEVENT
BEGIN:VEVENT
DTSTART;TZID=America/Edmonton:20250715T183000
DTEND;TZID=America/Edmonton:20250715T183000
DTSTAMP:20260423T104531
CREATED:20250520T201747Z
LAST-MODIFIED:20250520T201747Z
UID:10000051-1752604200-1752604200@cranstonra.ca
SUMMARY:Knitting Club
DESCRIPTION:Join us every third Tuesday of the month from 6:30 PM to 8:30 PM for the Cranston Knitting Club. Whether you’re a seasoned pro or a beginner\, come unwind\, share patterns\, and enjoy great company!
URL:https://cranstonra.ca/event/knitting-club-5/
LOCATION:Cranston Century Hall\, 11 Cranarch Rd\, Calgary\, Alberta\, T3M 1S3\, Canada
CATEGORIES:Community Club
ORGANIZER;CN="Cranston Residents Association":MAILTO:info@cranstonra.ca
END:VEVENT
BEGIN:VEVENT
DTSTART;TZID=America/Edmonton:20250716T130000
DTEND;TZID=America/Edmonton:20250716T130000
DTSTAMP:20260423T104531
CREATED:20250520T201802Z
LAST-MODIFIED:20250520T201802Z
UID:10000055-1752670800-1752670800@cranstonra.ca
SUMMARY:Seniors Social
DESCRIPTION:Every Wednesday from 1:00 PM to 3:00 PM\, seniors in Cranston are invited to gather for tea/coffee\, card games\, and board games in a fun and welcoming atmosphere. Join us for an afternoon of relaxation and connection!
URL:https://cranstonra.ca/event/seniors-social-19/
LOCATION:Cranston Century Hall\, 11 Cranarch Rd\, Calgary\, Alberta\, T3M 1S3\, Canada
CATEGORIES:Community Club
ORGANIZER;CN="Cranston Residents Association":MAILTO:info@cranstonra.ca
END:VEVENT
BEGIN:VEVENT
DTSTART;TZID=America/Edmonton:20250718T183000
DTEND;TZID=America/Edmonton:20250718T183000
DTSTAMP:20260423T104531
CREATED:20250520T201817Z
LAST-MODIFIED:20250718T195850Z
UID:10000060-1752863400-1752863400@cranstonra.ca
SUMMARY:Youth Night
DESCRIPTION:Youth Night is a weekly hangout for Cranston kids aged 11-14\, where they can come together to socialize\, play games\, and enjoy the evening.
URL:https://cranstonra.ca/event/youth-night-18/
LOCATION:Cranston Century Hall\, 11 Cranarch Rd\, Calgary\, Alberta\, T3M 1S3\, Canada
CATEGORIES:Community Club
ORGANIZER;CN="Cranston Residents Association":MAILTO:info@cranstonra.ca
END:VEVENT
BEGIN:VEVENT
DTSTART;TZID=America/Edmonton:20250723T130000
DTEND;TZID=America/Edmonton:20250723T130000
DTSTAMP:20260423T104531
CREATED:20250520T201802Z
LAST-MODIFIED:20250520T201802Z
UID:10000056-1753275600-1753275600@cranstonra.ca
SUMMARY:Seniors Social
DESCRIPTION:Every Wednesday from 1:00 PM to 3:00 PM\, seniors in Cranston are invited to gather for tea/coffee\, card games\, and board games in a fun and welcoming atmosphere. Join us for an afternoon of relaxation and connection!
URL:https://cranstonra.ca/event/seniors-social-20/
LOCATION:Cranston Century Hall\, 11 Cranarch Rd\, Calgary\, Alberta\, T3M 1S3\, Canada
CATEGORIES:Community Club
ORGANIZER;CN="Cranston Residents Association":MAILTO:info@cranstonra.ca
END:VEVENT
BEGIN:VEVENT
DTSTART;TZID=America/Edmonton:20250725T183000
DTEND;TZID=America/Edmonton:20250725T183000
DTSTAMP:20260423T104531
CREATED:20250520T201817Z
LAST-MODIFIED:20250721T173619Z
UID:10000061-1753468200-1753468200@cranstonra.ca
SUMMARY:Youth Night
DESCRIPTION:Youth Night is a weekly hangout for Cranston kids aged 11-14\, where they can come together to socialize\, play games\, and enjoy the evening. This week’s youth night is: Origami & Karaoke Night
URL:https://cranstonra.ca/event/youth-night-19/
LOCATION:Cranston Century Hall\, 11 Cranarch Rd\, Calgary\, Alberta\, T3M 1S3\, Canada
CATEGORIES:Community Club
ORGANIZER;CN="Cranston Residents Association":MAILTO:info@cranstonra.ca
END:VEVENT
BEGIN:VEVENT
DTSTART;TZID=America/Edmonton:20250730T130000
DTEND;TZID=America/Edmonton:20250730T130000
DTSTAMP:20260423T104531
CREATED:20250520T201816Z
LAST-MODIFIED:20250520T201816Z
UID:10000057-1753880400-1753880400@cranstonra.ca
SUMMARY:Seniors Social
DESCRIPTION:Every Wednesday from 1:00 PM to 3:00 PM\, seniors in Cranston are invited to gather for tea/coffee\, card games\, and board games in a fun and welcoming atmosphere. Join us for an afternoon of relaxation and connection!
URL:https://cranstonra.ca/event/seniors-social-21/
LOCATION:Cranston Century Hall\, 11 Cranarch Rd\, Calgary\, Alberta\, T3M 1S3\, Canada
CATEGORIES:Community Club
ORGANIZER;CN="Cranston Residents Association":MAILTO:info@cranstonra.ca
END:VEVENT
END:VCALENDAR